BEGIN:VCALENDAR
VERSION:2.0
PRODID:-//eventon.com NONSGML v1.0//EN
CALSCALE:GREGORIAN
METHOD:PUBLISH
BEGIN:VEVENT
UID:69ebf7dd46f39
DTSTAMP:20260424T230813Z
DTSTART:19691231T230000Z
DTEND:19691231T230000Z
LOCATION:
SUMMARY:Conférence des éleveurs du SDC
DESCRIPTION:Lieu&nbsp;: Château de Landshut Annonce et inscription (fichie
 r pdf)\nhttps://dackel.ch/fr/events/conference-des-eleveurs-du-sdc-2/
URL:https://dackel.ch/fr/events/conference-des-eleveurs-du-sdc-2/
END:VEVENT
END:VCALENDAR