BEGIN:VCALENDAR
VERSION:2.0
PRODID:-//eventon.com NONSGML v1.0//EN
CALSCALE:GREGORIAN
METHOD:PUBLISH
BEGIN:VEVENT
UID:69eb98ef0ddcb
DTSTAMP:20260424T162311Z
DTSTART:19691231T230000Z
DTEND:19691231T230000Z
LOCATION:
SUMMARY:BHP vétérans (dès 8 ans)
DESCRIPTION:OG Suisse orientale Lieu&nbsp;: Sitterdorf&nbsp; (Après-midi) 
 Exam. Partie 1 Annulé&nbsp;!\nhttps://dackel.ch/fr/events/bhp-veterans-des
 -8-ans-2/
URL:https://dackel.ch/fr/events/bhp-veterans-des-8-ans-2/
END:VEVENT
END:VCALENDAR