BEGIN:VCALENDAR
VERSION:2.0
PRODID:-//eventon.com NONSGML v1.0//EN
CALSCALE:GREGORIAN
METHOD:PUBLISH
BEGIN:VEVENT
UID:69e855b0b3b98
DTSTAMP:20260422T045928Z
DTSTART:19691231T230000Z
DTEND:19691231T230000Z
LOCATION:
SUMMARY:Épreuve de polyvalence sans voix sur la voie
DESCRIPTION:Lieu&nbsp;: Schötz\nhttps://dackel.ch/fr/events/epreuve-de-pol
 yvalence-sans-voix-sur-la-voie-2/
URL:https://dackel.ch/fr/events/epreuve-de-polyvalence-sans-voix-sur-la-voie-2/
END:VEVENT
END:VCALENDAR