BEGIN:VCALENDAR
VERSION:2.0
PRODID:-//eventon.com NONSGML v1.0//EN
CALSCALE:GREGORIAN
METHOD:PUBLISH
BEGIN:VEVENT
UID:69e7f91fe9b3c
DTSTAMP:20260421T222431Z
DTSTART:19691231T230000Z
DTEND:19691231T230000Z
LOCATION:
SUMMARY:Ã‰valuation de la conformation et du comportement
DESCRIPTION:Groupe local Est Lieu&nbsp;: Sitterdorf Les inscriptions sont Ã
 ©galement possibles sur papier&nbsp;:\nhttps://dackel.ch/fr/events/evaluati
 on-de-la-conformation-et-du-comportement-8/
URL:https://dackel.ch/fr/events/evaluation-de-la-conformation-et-du-comportement-8/
END:VEVENT
END:VCALENDAR