BEGIN:VCALENDAR
VERSION:2.0
PRODID:-//eventon.com NONSGML v1.0//EN
CALSCALE:GREGORIAN
METHOD:PUBLISH
BEGIN:VEVENT
UID:69e8272dbcf96
DTSTAMP:20260422T014101Z
DTSTART:19691231T230000Z
DTEND:19691231T230000Z
LOCATION:
SUMMARY:Cours de chef de groupe pour chiens d'accompagnement
DESCRIPTION:Invitation au cours de chef de groupe 2023 (fichier pdf)\nhttps
 ://dackel.ch/fr/events/cours-de-chef-de-groupe-pour-chiens-daccompagnement/
URL:https://dackel.ch/fr/events/cours-de-chef-de-groupe-pour-chiens-daccompagnement/
END:VEVENT
END:VCALENDAR