BEGIN:VCALENDAR
VERSION:2.0
PRODID:-//eventon.com NONSGML v1.0//EN
CALSCALE:GREGORIAN
METHOD:PUBLISH
BEGIN:VEVENT
UID:69e86afa051b8
DTSTAMP:20260422T063018Z
DTSTART:19691231T230000Z
DTEND:19691231T230000Z
LOCATION:
SUMMARY:7e tournoi international de chiens d'accompagnement
DESCRIPTION:à Altenheim (D)\nhttps://dackel.ch/fr/events/7e-tournoi-intern
 ational-de-chiens-daccompagnement/
URL:https://dackel.ch/fr/events/7e-tournoi-international-de-chiens-daccompagnement/
END:VEVENT
END:VCALENDAR