BEGIN:VCALENDAR
VERSION:2.0
PRODID:-//eventon.com NONSGML v1.0//EN
CALSCALE:GREGORIAN
METHOD:PUBLISH
BEGIN:VEVENT
UID:69eb440f4bc5c
DTSTAMP:20260424T102103Z
DTSTART:19691231T230000Z
DTEND:19691231T230000Z
LOCATION:
SUMMARY:Exposition jeunes et vétérans
DESCRIPTION:Lieu&nbsp;: Sonterswil\nhttps://dackel.ch/fr/events/exposition-
 jeunes-et-veterans-2/
URL:https://dackel.ch/fr/events/exposition-jeunes-et-veterans-2/
END:VEVENT
END:VCALENDAR