BEGIN:VCALENDAR
VERSION:2.0
PRODID:-//eventon.com NONSGML v1.0//EN
CALSCALE:GREGORIAN
METHOD:PUBLISH
BEGIN:VEVENT
UID:69ec2dbdab3e4
DTSTAMP:20260425T025805Z
DTSTART:19691231T230000Z
DTEND:19691231T230000Z
LOCATION:
SUMMARY:Exposition de printemps du club SDC CAC
DESCRIPTION:Lieu&nbsp;: Fehraltdorf www.onlinedogshows.eu\nhttps://dackel.c
 h/fr/events/exposition-de-printemps-du-club-sdc-cac/
URL:https://dackel.ch/fr/events/exposition-de-printemps-du-club-sdc-cac/
END:VEVENT
END:VCALENDAR