BEGIN:VCALENDAR
VERSION:2.0
PRODID:-//eventon.com NONSGML v1.0//EN
CALSCALE:GREGORIAN
METHOD:PUBLISH
BEGIN:VEVENT
UID:69ec153e306ff
DTSTAMP:20260425T011334Z
DTSTART:19691231T230000Z
DTEND:19691231T230000Z
LOCATION:
SUMMARY:Épreuve de voix sur piste
DESCRIPTION:Lieu&nbsp;: Kerzers\nhttps://dackel.ch/fr/events/epreuve-de-voi
 x-sur-piste/
URL:https://dackel.ch/fr/events/epreuve-de-voix-sur-piste/
END:VEVENT
END:VCALENDAR