BEGIN:VCALENDAR
VERSION:2.0
PRODID:-//eventon.com NONSGML v1.0//EN
CALSCALE:GREGORIAN
METHOD:PUBLISH
BEGIN:VEVENT
UID:69e750390c4ed
DTSTAMP:20260421T102353Z
DTSTART:19691231T230000Z
DTEND:19691231T230000Z
LOCATION:
SUMMARY:Test d'aptitude à l'eau
DESCRIPTION:GR Nord-Ouest Lieu&nbsp;: Muespach (F)\nhttps://dackel.ch/fr/ev
 ents/test-daptitude-a-leau/
URL:https://dackel.ch/fr/events/test-daptitude-a-leau/
END:VEVENT
END:VCALENDAR