BEGIN:VCALENDAR
VERSION:2.0
PRODID:-//eventon.com NONSGML v1.0//EN
CALSCALE:GREGORIAN
METHOD:PUBLISH
BEGIN:VEVENT
UID:69e66a70d692e
DTSTAMP:20260420T180328Z
DTSTART:19691231T230000Z
DTEND:19691231T230000Z
LOCATION:
SUMMARY:Championnat suisse BHP
DESCRIPTION:Invitation BHP SM SDC 2023 (fichier pdf) &nbsp;\nhttps://dackel
 .ch/fr/events/championnat-suisse-bhp-3/
URL:https://dackel.ch/fr/events/championnat-suisse-bhp-3/
END:VEVENT
END:VCALENDAR