BEGIN:VCALENDAR
VERSION:2.0
PRODID:-//eventon.com NONSGML v1.0//EN
CALSCALE:GREGORIAN
METHOD:PUBLISH
BEGIN:VEVENT
UID:69e638d736dcc
DTSTAMP:20260420T143151Z
DTSTART:19691231T230000Z
DTEND:19691231T230000Z
LOCATION:
SUMMARY:Test de chien d'accompagnement S (BHP-S)
DESCRIPTION:OG GR-TI Lieu&nbsp;: Landquart\nhttps://dackel.ch/fr/events/tes
 t-de-chien-daccompagnement-s-bhp-s-3/
URL:https://dackel.ch/fr/events/test-de-chien-daccompagnement-s-bhp-s-3/
END:VEVENT
END:VCALENDAR