BEGIN:VCALENDAR
VERSION:2.0
PRODID:-//eventon.com NONSGML v1.0//EN
CALSCALE:GREGORIAN
METHOD:PUBLISH
BEGIN:VEVENT
UID:69e65145dbb7d
DTSTAMP:20260420T161605Z
DTSTART:19691231T230000Z
DTEND:19691231T230000Z
LOCATION:
SUMMARY:Évaluation d'aptitude sanglier
DESCRIPTION:Lieu&nbsp;: Elgg\nhttps://dackel.ch/fr/events/evaluation-daptit
 ude-sanglier-2/
URL:https://dackel.ch/fr/events/evaluation-daptitude-sanglier-2/
END:VEVENT
END:VCALENDAR