BEGIN:VCALENDAR
VERSION:2.0
PRODID:-//eventon.com NONSGML v1.0//EN
CALSCALE:GREGORIAN
METHOD:PUBLISH
BEGIN:VEVENT
UID:69e69f2556b26
DTSTAMP:20260420T214821Z
DTSTART:19691231T230000Z
DTEND:19691231T230000Z
LOCATION:
SUMMARY:Semaine du teckel
DESCRIPTION:Oberammergau (Allemagne)\nhttps://dackel.ch/fr/events/semaine-d
 u-teckel-3/
URL:https://dackel.ch/fr/events/semaine-du-teckel-3/
END:VEVENT
END:VCALENDAR