BEGIN:VCALENDAR
VERSION:2.0
PRODID:-//eventon.com NONSGML v1.0//EN
CALSCALE:GREGORIAN
METHOD:PUBLISH
BEGIN:VEVENT
UID:69e6b985a0e8d
DTSTAMP:20260420T234053Z
DTSTART:19691231T230000Z
DTEND:19691231T230000Z
LOCATION:
SUMMARY:Épreuve de recherche au sang
DESCRIPTION:Lieu&nbsp;: Zernez\nhttps://dackel.ch/fr/events/epreuve-de-rech
 erche-au-sang-3/
URL:https://dackel.ch/fr/events/epreuve-de-recherche-au-sang-3/
END:VEVENT
END:VCALENDAR