BEGIN:VCALENDAR
VERSION:2.0
PRODID:-//eventon.com NONSGML v1.0//EN
CALSCALE:GREGORIAN
METHOD:PUBLISH
BEGIN:VEVENT
UID:69e6eb88599c3
DTSTAMP:20260421T031416Z
DTSTART:19691231T230000Z
DTEND:19691231T230000Z
LOCATION:
SUMMARY:Course de teckels SDC Rifferswil
DESCRIPTION:Annulé&nbsp;! En raison de la chaleur\,  la course de teckels 
 n’aura malheureusement pas lieu. La santé de nos chiens\,  ainsi que cel
 le de leurs maîtres\,  passe avant tout.\nhttps://dackel.ch/fr/events/cour
 se-de-teckels-sdc-rifferswil-3/
URL:https://dackel.ch/fr/events/course-de-teckels-sdc-rifferswil-3/
END:VEVENT
END:VCALENDAR