BEGIN:VCALENDAR
VERSION:2.0
PRODID:-//eventon.com NONSGML v1.0//EN
CALSCALE:GREGORIAN
METHOD:PUBLISH
BEGIN:VEVENT
UID:69e71fcb579a1
DTSTAMP:20260421T065715Z
DTSTART:19691231T230000Z
DTEND:19691231T230000Z
LOCATION:
SUMMARY:Test de chien d'accompagnement
DESCRIPTION:OG GR-TI Lieu&nbsp;: Landquart\nhttps://dackel.ch/fr/events/tes
 t-de-chien-daccompagnement-8/
URL:https://dackel.ch/fr/events/test-de-chien-daccompagnement-8/
END:VEVENT
END:VCALENDAR