BEGIN:VCALENDAR
VERSION:2.0
PRODID:-//eventon.com NONSGML v1.0//EN
CALSCALE:GREGORIAN
METHOD:PUBLISH
BEGIN:VEVENT
UID:69e750646b0ab
DTSTAMP:20260421T102436Z
DTSTART:19691231T230000Z
DTEND:19691231T230000Z
LOCATION:
SUMMARY:Test d'eau
DESCRIPTION:Lieu : Untervaz &nbsp;\nhttps://dackel.ch/fr/events/test-deau-3
 /
URL:https://dackel.ch/fr/events/test-deau-3/
END:VEVENT
END:VCALENDAR