BEGIN:VCALENDAR
VERSION:2.0
PRODID:-//eventon.com NONSGML v1.0//EN
CALSCALE:GREGORIAN
METHOD:PUBLISH
BEGIN:VEVENT
UID:69e8118d92a85
DTSTAMP:20260422T000845Z
DTSTART:19691231T230000Z
DTEND:19691231T230000Z
LOCATION:Dottikon Hotel Bahnhof
SUMMARY:120. AG Assemblée générale
DESCRIPTION:120. AG Dottikon\,  Rest. Hotel Bahnhof Invitation à l’AG 20
 23 &nbsp; &nbsp;\nhttps://dackel.ch/fr/events/120-ag-assemblee-generale/
URL:https://dackel.ch/fr/events/120-ag-assemblee-generale/
END:VEVENT
END:VCALENDAR