BEGIN:VCALENDAR
VERSION:2.0
PRODID:-//eventon.com NONSGML v1.0//EN
CALSCALE:GREGORIAN
METHOD:PUBLISH
BEGIN:VEVENT
UID:69e4ce5644244
DTSTAMP:20260419T124510Z
DTSTART:19691231T230000Z
DTEND:19691231T230000Z
LOCATION:
SUMMARY:BHP Vétérans + Entraînement
DESCRIPTION:Lieu&nbsp;: Sitterdorf Invitation BHP Vétérans 26.5.2024\nhtt
 ps://dackel.ch/fr/events/bhp-veterans-entrainement/
URL:https://dackel.ch/fr/events/bhp-veterans-entrainement/
END:VEVENT
END:VCALENDAR