BEGIN:VCALENDAR
VERSION:2.0
PRODID:-//eventon.com NONSGML v1.0//EN
CALSCALE:GREGORIAN
METHOD:PUBLISH
BEGIN:VEVENT
UID:69e5022526f7e
DTSTAMP:20260419T162613Z
DTSTART:19691231T230000Z
DTEND:19691231T230000Z
LOCATION:
SUMMARY:Conférence des éleveurs et des juges du SDC
DESCRIPTION:Lieu&nbsp;: Château de Landshut Invitation et appel d’offres
  Assemblée des éleveurs 2024 (fichier pdf) &nbsp;\nhttps://dackel.ch/fr/e
 vents/conference-des-eleveurs-et-des-juges-du-sdc-2/
URL:https://dackel.ch/fr/events/conference-des-eleveurs-et-des-juges-du-sdc-2/
END:VEVENT
END:VCALENDAR