BEGIN:VCALENDAR
VERSION:2.0
PRODID:-//eventon.com NONSGML v1.0//EN
CALSCALE:GREGORIAN
METHOD:PUBLISH
BEGIN:VEVENT
UID:69e51bf96d2e6
DTSTAMP:20260419T181625Z
DTSTART:19691231T230000Z
DTEND:19691231T230000Z
LOCATION:
SUMMARY:CAC/CACIB Genève
DESCRIPTION:www.chiens-expo.ch\nhttps://dackel.ch/fr/events/cac-cacib-genev
 e-2/
URL:https://dackel.ch/fr/events/cac-cacib-geneve-2/
END:VEVENT
END:VCALENDAR