BEGIN:VCALENDAR
VERSION:2.0
PRODID:-//eventon.com NONSGML v1.0//EN
CALSCALE:GREGORIAN
METHOD:PUBLISH
BEGIN:VEVENT
UID:69e91177c5ec3
DTSTAMP:20260422T182039Z
DTSTART:19691231T230000Z
DTEND:19691231T230000Z
LOCATION:
SUMMARY:IHA CAC/CACIB Lucerne
DESCRIPTION:www.onlinedogshows.eu\nhttps://dackel.ch/fr/events/iha-cac-caci
 b-lucerne/
URL:https://dackel.ch/fr/events/iha-cac-cacib-lucerne/
END:VEVENT
END:VCALENDAR