BEGIN:VCALENDAR
VERSION:2.0
PRODID:-//eventon.com NONSGML v1.0//EN
CALSCALE:GREGORIAN
METHOD:PUBLISH
BEGIN:VEVENT
UID:69e8ea23b99c2
DTSTAMP:20260422T153251Z
DTSTART:19691231T230000Z
DTEND:19691231T230000Z
LOCATION:
SUMMARY:CAC Exposition jeunes et vétérans
DESCRIPTION:Lieu&nbsp;: Sonterswil Annonce et bulletin d’inscription www.
 dackel-ost.ch &nbsp;\nhttps://dackel.ch/fr/events/cac-exposition-jeunes-et-
 veterans-3/
URL:https://dackel.ch/fr/events/cac-exposition-jeunes-et-veterans-3/
END:VEVENT
END:VCALENDAR