BEGIN:VCALENDAR
VERSION:2.0
PRODID:-//eventon.com NONSGML v1.0//EN
CALSCALE:GREGORIAN
METHOD:PUBLISH
BEGIN:VEVENT
UID:69e8fde3a6bb9
DTSTAMP:20260422T165707Z
DTSTART:19691231T230000Z
DTEND:19691231T230000Z
LOCATION:
SUMMARY:CAC SDC Exposition du Club (Classement du vainqueur annuel)
DESCRIPTION:Lieu&nbsp;: 5737 Menziken www.onlinedogshows.eu &nbsp;\nhttps:/
 /dackel.ch/fr/events/cac-sdc-exposition-du-club-classement-du-vainqueur-ann
 uel/
URL:https://dackel.ch/fr/events/cac-sdc-exposition-du-club-classement-du-vainqueur-annuel/
END:VEVENT
END:VCALENDAR