BEGIN:VCALENDAR
VERSION:2.0
PRODID:-//eventon.com NONSGML v1.0//EN
CALSCALE:GREGORIAN
METHOD:PUBLISH
BEGIN:VEVENT
UID:69e73cdb90279
DTSTAMP:20260421T090115Z
DTSTART:19691231T230000Z
DTEND:19691231T230000Z
LOCATION:
SUMMARY:Épreuve de polyvalence sans voix sur piste\,  avec recherche en forêt
DESCRIPTION:Lieu : Zetzwil Infos/Inscription : Andi Stauber\nhttps://dackel
 .ch/fr/events/epreuve-de-polyvalence-sans-voix-sur-piste-avec-recherche-en-
 foret/
URL:https://dackel.ch/fr/events/epreuve-de-polyvalence-sans-voix-sur-piste-avec-recherche-en-foret/
END:VEVENT
END:VCALENDAR