BEGIN:VCALENDAR
VERSION:2.0
PRODID:-//eventon.com NONSGML v1.0//EN
CALSCALE:GREGORIAN
METHOD:PUBLISH
BEGIN:VEVENT
UID:69e77f01bd7c8
DTSTAMP:20260421T134329Z
DTSTART:19691231T230000Z
DTEND:19691231T230000Z
LOCATION:
SUMMARY:Évaluation de la conformation et du comportement
DESCRIPTION:SDC Lieu : Allschwil\nhttps://dackel.ch/fr/events/evaluation-de
 -la-conformation-et-du-comportement-19/
URL:https://dackel.ch/fr/events/evaluation-de-la-conformation-et-du-comportement-19/
END:VEVENT
END:VCALENDAR