BEGIN:VCALENDAR
VERSION:2.0
PRODID:-//eventon.com NONSGML v1.0//EN
CALSCALE:GREGORIAN
METHOD:PUBLISH
BEGIN:VEVENT
UID:69e7995a653d1
DTSTAMP:20260421T153554Z
DTSTART:19691231T230000Z
DTEND:19691231T230000Z
LOCATION:
SUMMARY:CAC SDC Exposition du Club (Classement du vainqueur régional)
DESCRIPTION:Lieu : à déterminer\,  Date : 5 septembre 2026 www.onlinedogs
 hows.eu\nhttps://dackel.ch/fr/events/cac-sdc-exposition-du-club-classement-
 du-vainqueur-regional/
URL:https://dackel.ch/fr/events/cac-sdc-exposition-du-club-classement-du-vainqueur-regional/
END:VEVENT
END:VCALENDAR