BEGIN:VCALENDAR
VERSION:2.0
PRODID:-//eventon.com NONSGML v1.0//EN
CALSCALE:GREGORIAN
METHOD:PUBLISH
BEGIN:VEVENT
UID:69e7ca446479f
DTSTAMP:20260421T190436Z
DTSTART:19691231T230000Z
DTEND:19691231T230000Z
LOCATION:
SUMMARY:IHA Genève CAC/CACIB
DESCRIPTION:www.onlinedogshows.eu\nhttps://dackel.ch/fr/events/iha-geneve-c
 ac-cacib-3/
URL:https://dackel.ch/fr/events/iha-geneve-cac-cacib-3/
END:VEVENT
END:VCALENDAR