BEGIN:VCALENDAR
VERSION:2.0
PRODID:-//eventon.com NONSGML v1.0//EN
CALSCALE:GREGORIAN
METHOD:PUBLISH
BEGIN:VEVENT
UID:69ebebb087867
DTSTAMP:20260424T221616Z
DTSTART:19691231T230000Z
DTEND:19691231T230000Z
LOCATION:
SUMMARY:Convegno degli allevatori SDC
DESCRIPTION:Luogo: Castello di Landshut Bando e iscrizione (file pdf)\nhttp
 s://dackel.ch/it/events/convegno-degli-allevatori-sdc-2/
URL:https://dackel.ch/it/events/convegno-degli-allevatori-sdc-2/
END:VEVENT
END:VCALENDAR