BEGIN:VCALENDAR
VERSION:2.0
PRODID:-//eventon.com NONSGML v1.0//EN
CALSCALE:GREGORIAN
METHOD:PUBLISH
BEGIN:VEVENT
UID:69ebb666d00d5
DTSTAMP:20260424T182854Z
DTSTART:19691231T230000Z
DTEND:19691231T230000Z
LOCATION:
SUMMARY:Prova di ricerca su traccia di sangue
DESCRIPTION:Prova di ricerca su traccia di sangue\nhttps://dackel.ch/it/eve
 nts/prova-di-ricerca-su-traccia-di-sangue-2/
URL:https://dackel.ch/it/events/prova-di-ricerca-su-traccia-di-sangue-2/
END:VEVENT
END:VCALENDAR