BEGIN:VCALENDAR
VERSION:2.0
PRODID:-//eventon.com NONSGML v1.0//EN
CALSCALE:GREGORIAN
METHOD:PUBLISH
BEGIN:VEVENT
UID:69eb539a86279
DTSTAMP:20260424T112722Z
DTSTART:19691231T230000Z
DTEND:19691231T230000Z
LOCATION:
SUMMARY:Prova per cani di compagnia S (BHP-S)
DESCRIPTION:Sezione di Zurigo Luogo: Wädenswil\nhttps://dackel.ch/it/event
 s/prova-per-cani-di-compagnia-s-bhp-s-2/
URL:https://dackel.ch/it/events/prova-per-cani-di-compagnia-s-bhp-s-2/
END:VEVENT
END:VCALENDAR