BEGIN:VCALENDAR
VERSION:2.0
PRODID:-//eventon.com NONSGML v1.0//EN
CALSCALE:GREGORIAN
METHOD:PUBLISH
BEGIN:VEVENT
UID:69e8401565036
DTSTAMP:20260422T032717Z
DTSTART:19691231T230000Z
DTEND:19691231T230000Z
LOCATION:
SUMMARY:Valutazione della forma e del comportamento
DESCRIPTION:OG NW Luogo: Allschwil Le iscrizioni sono possibili anche su ca
 rta:\nhttps://dackel.ch/it/events/valutazione-della-forma-e-del-comportamen
 to-6/
URL:https://dackel.ch/it/events/valutazione-della-forma-e-del-comportamento-6/
END:VEVENT
END:VCALENDAR