BEGIN:VCALENDAR
VERSION:2.0
PRODID:-//eventon.com NONSGML v1.0//EN
CALSCALE:GREGORIAN
METHOD:PUBLISH
BEGIN:VEVENT
UID:69e855003d39c
DTSTAMP:20260422T045632Z
DTSTART:19691231T230000Z
DTEND:19691231T230000Z
LOCATION:
SUMMARY:7° Torneo internazionale per cani di compagnia
DESCRIPTION:ad Altenheim (D)\nhttps://dackel.ch/it/events/7-torneo-internaz
 ionale-per-cani-di-compagnia/
URL:https://dackel.ch/it/events/7-torneo-internazionale-per-cani-di-compagnia/
END:VEVENT
END:VCALENDAR