BEGIN:VCALENDAR
VERSION:2.0
PRODID:-//eventon.com NONSGML v1.0//EN
CALSCALE:GREGORIAN
METHOD:PUBLISH
BEGIN:VEVENT
UID:69ec36e4b7048
DTSTAMP:20260425T033708Z
DTSTART:19691231T230000Z
DTEND:19691231T230000Z
LOCATION:
SUMMARY:IHA Aarau CAC/CACIB
DESCRIPTION:www.swiss-dogshow.ch\nhttps://dackel.ch/it/events/iha-aarau-cac
 -cacib/
URL:https://dackel.ch/it/events/iha-aarau-cac-cacib/
END:VEVENT
END:VCALENDAR