BEGIN:VCALENDAR
VERSION:2.0
PRODID:-//eventon.com NONSGML v1.0//EN
CALSCALE:GREGORIAN
METHOD:PUBLISH
BEGIN:VEVENT
UID:69ec1fb0a2f7a
DTSTAMP:20260425T015808Z
DTSTART:19691231T230000Z
DTEND:19691231T230000Z
LOCATION:
SUMMARY:Esposizione primaverile del Club SDC CAC
DESCRIPTION:Luogo: Fehraltdorf www.onlinedogshows.eu\nhttps://dackel.ch/it/
 events/esposizione-primaverile-del-club-sdc-cac/
URL:https://dackel.ch/it/events/esposizione-primaverile-del-club-sdc-cac/
END:VEVENT
END:VCALENDAR