BEGIN:VCALENDAR
VERSION:2.0
PRODID:-//eventon.com NONSGML v1.0//EN
CALSCALE:GREGORIAN
METHOD:PUBLISH
BEGIN:VEVENT
UID:69e8b72e6396c
DTSTAMP:20260422T115526Z
DTSTART:19691231T230000Z
DTEND:19691231T230000Z
LOCATION:
SUMMARY:CAC Clubschau SDC\,  DogShowProject
DESCRIPTION:Luogo: Fehraltdorf www.onlinedogshows.eu\nhttps://dackel.ch/it/
 events/cac-clubschau-sdc-dogshowproject/
URL:https://dackel.ch/it/events/cac-clubschau-sdc-dogshowproject/
END:VEVENT
END:VCALENDAR