BEGIN:VCALENDAR
VERSION:2.0
PRODID:-//eventon.com NONSGML v1.0//EN
CALSCALE:GREGORIAN
METHOD:PUBLISH
BEGIN:VEVENT
UID:69e683a49e7b5
DTSTAMP:20260420T195100Z
DTSTART:19691231T230000Z
DTEND:19691231T230000Z
LOCATION:
SUMMARY:Campionato svizzero BHP
DESCRIPTION:Invito BHP SM SDC 2023 (file pdf) &nbsp;\nhttps://dackel.ch/it/
 events/campionato-svizzero-bhp-3/
URL:https://dackel.ch/it/events/campionato-svizzero-bhp-3/
END:VEVENT
END:VCALENDAR