BEGIN:VCALENDAR
VERSION:2.0
PRODID:-//eventon.com NONSGML v1.0//EN
CALSCALE:GREGORIAN
METHOD:PUBLISH
BEGIN:VEVENT
UID:69e69d84abedd
DTSTAMP:20260420T214124Z
DTSTART:19691231T230000Z
DTEND:19691231T230000Z
LOCATION:
SUMMARY:Prova di versatilità senza abbaio sulla traccia
DESCRIPTION:Luogo: Schötz\nhttps://dackel.ch/it/events/prova-di-versatilit
 a-senza-abbaio-sulla-traccia-3/
URL:https://dackel.ch/it/events/prova-di-versatilita-senza-abbaio-sulla-traccia-3/
END:VEVENT
END:VCALENDAR