BEGIN:VCALENDAR
VERSION:2.0
PRODID:-//eventon.com NONSGML v1.0//EN
CALSCALE:GREGORIAN
METHOD:PUBLISH
BEGIN:VEVENT
UID:69e6b41c34e34
DTSTAMP:20260420T231748Z
DTSTART:19691231T230000Z
DTEND:19691231T230000Z
LOCATION:
SUMMARY:Settimana del bassotto
DESCRIPTION:Oberammergau DE\nhttps://dackel.ch/it/events/settimana-del-bass
 otto-3/
URL:https://dackel.ch/it/events/settimana-del-bassotto-3/
END:VEVENT
END:VCALENDAR