BEGIN:VCALENDAR
VERSION:2.0
PRODID:-//eventon.com NONSGML v1.0//EN
CALSCALE:GREGORIAN
METHOD:PUBLISH
BEGIN:VEVENT
UID:69e66ad5d262d
DTSTAMP:20260420T180509Z
DTSTART:19691231T230000Z
DTEND:19691231T230000Z
LOCATION:
SUMMARY:Valutazione dell'idoneità al cinghiale
DESCRIPTION:Luogo: Elgg\nhttps://dackel.ch/it/events/valutazione-dellidonei
 ta-al-cinghiale-2/
URL:https://dackel.ch/it/events/valutazione-dellidoneita-al-cinghiale-2/
END:VEVENT
END:VCALENDAR