BEGIN:VCALENDAR
VERSION:2.0
PRODID:-//eventon.com NONSGML v1.0//EN
CALSCALE:GREGORIAN
METHOD:PUBLISH
BEGIN:VEVENT
UID:69e701b244bb6
DTSTAMP:20260421T044850Z
DTSTART:19691231T230000Z
DTEND:19691231T230000Z
LOCATION:
SUMMARY:Esame di cane di compagnia
DESCRIPTION:Bando e iscrizione (file pdf) OG Ost Luogo: Sitterdorf\nhttps:/
 /dackel.ch/it/events/esame-di-cane-di-compagnia-7/
URL:https://dackel.ch/it/events/esame-di-cane-di-compagnia-7/
END:VEVENT
END:VCALENDAR