BEGIN:VCALENDAR
VERSION:2.0
PRODID:-//eventon.com NONSGML v1.0//EN
CALSCALE:GREGORIAN
METHOD:PUBLISH
BEGIN:VEVENT
UID:69e6e5cb1467d
DTSTAMP:20260421T024947Z
DTSTART:19691231T230000Z
DTEND:19691231T230000Z
LOCATION:
SUMMARY:SDC Corsa dei bassotti Rifferswil
DESCRIPTION:Annullata! A causa del caldo torrido\,  la corsa dei bassotti p
 urtroppo non si terrà. La salute dei nostri cani\,  dei padroni e delle pa
 drone viene prima di tutto.\nhttps://dackel.ch/it/events/sdc-corsa-dei-bass
 otti-rifferswil-3/
URL:https://dackel.ch/it/events/sdc-corsa-dei-bassotti-rifferswil-3/
END:VEVENT
END:VCALENDAR