BEGIN:VCALENDAR
VERSION:2.0
PRODID:-//eventon.com NONSGML v1.0//EN
CALSCALE:GREGORIAN
METHOD:PUBLISH
BEGIN:VEVENT
UID:69e779fb03aa3
DTSTAMP:20260421T132203Z
DTSTART:19691231T230000Z
DTEND:19691231T230000Z
LOCATION:
SUMMARY:BHP Veterani (da 8 anni)
DESCRIPTION:OG Svizzera orientale (pomeriggio) Luogo: Sitterdorf\nhttps://d
 ackel.ch/it/events/bhp-veterani-da-8-anni-3/
URL:https://dackel.ch/it/events/bhp-veterani-da-8-anni-3/
END:VEVENT
END:VCALENDAR