BEGIN:VCALENDAR
VERSION:2.0
PRODID:-//eventon.com NONSGML v1.0//EN
CALSCALE:GREGORIAN
METHOD:PUBLISH
BEGIN:VEVENT
UID:69e7986251008
DTSTAMP:20260421T153146Z
DTSTART:19691231T230000Z
DTEND:19691231T230000Z
LOCATION:
SUMMARY:Convegno allevatori e giudici SDC
DESCRIPTION:Luogo: Castello di Landshut Iscrizione al convegno allevatori e
  giudici 23 (file pdf) &nbsp;\nhttps://dackel.ch/it/events/convegno-allevat
 ori-e-giudici-sdc/
URL:https://dackel.ch/it/events/convegno-allevatori-e-giudici-sdc/
END:VEVENT
END:VCALENDAR