BEGIN:VCALENDAR
VERSION:2.0
PRODID:-//eventon.com NONSGML v1.0//EN
CALSCALE:GREGORIAN
METHOD:PUBLISH
BEGIN:VEVENT
UID:69e762bddc114
DTSTAMP:20260421T114253Z
DTSTART:19691231T230000Z
DTEND:19691231T230000Z
LOCATION:
SUMMARY:Test dell'acqua
DESCRIPTION:Luogo: Untervaz &nbsp;\nhttps://dackel.ch/it/events/test-dellac
 qua-3/
URL:https://dackel.ch/it/events/test-dellacqua-3/
END:VEVENT
END:VCALENDAR