BEGIN:VCALENDAR
VERSION:2.0
PRODID:-//eventon.com NONSGML v1.0//EN
CALSCALE:GREGORIAN
METHOD:PUBLISH
BEGIN:VEVENT
UID:69e86b2d46869
DTSTAMP:20260422T063109Z
DTSTART:19691231T230000Z
DTEND:19691231T230000Z
LOCATION:
SUMMARY:Esposizione per giovani e veterani
DESCRIPTION:Luogo: Sonterswil\nhttps://dackel.ch/it/events/esposizione-per-
 giovani-e-veterani-2/
URL:https://dackel.ch/it/events/esposizione-per-giovani-e-veterani-2/
END:VEVENT
END:VCALENDAR