BEGIN:VCALENDAR
VERSION:2.0
PRODID:-//eventon.com NONSGML v1.0//EN
CALSCALE:GREGORIAN
METHOD:PUBLISH
BEGIN:VEVENT
UID:69e7f7a41e25a
DTSTAMP:20260421T221812Z
DTSTART:19691231T230000Z
DTEND:19691231T230000Z
LOCATION:Dottikon Hotel Bahnhof
SUMMARY:120. AG Assemblea generale
DESCRIPTION:120. AG Dottikon\,  Ristorante Hotel Bahnhof Invito AG 2023 &nb
 sp; &nbsp;\nhttps://dackel.ch/it/events/120-ag-assemblea-generale/
URL:https://dackel.ch/it/events/120-ag-assemblea-generale/
END:VEVENT
END:VCALENDAR