BEGIN:VCALENDAR
VERSION:2.0
PRODID:-//eventon.com NONSGML v1.0//EN
CALSCALE:GREGORIAN
METHOD:PUBLISH
BEGIN:VEVENT
UID:69e82b3225f95
DTSTAMP:20260422T015810Z
DTSTART:19691231T230000Z
DTEND:19691231T230000Z
LOCATION:
SUMMARY:Corso per capogruppo cani di compagnia
DESCRIPTION:Invito al corso per capogruppo 2023 (file pdf)\nhttps://dackel.
 ch/it/events/corso-per-capogruppo-cani-di-compagnia/
URL:https://dackel.ch/it/events/corso-per-capogruppo-cani-di-compagnia/
END:VEVENT
END:VCALENDAR