BEGIN:VCALENDAR
VERSION:2.0
PRODID:-//eventon.com NONSGML v1.0//EN
CALSCALE:GREGORIAN
METHOD:PUBLISH
BEGIN:VEVENT
UID:69e54a4e8ba59
DTSTAMP:20260419T213406Z
DTSTART:19691231T230000Z
DTEND:19691231T230000Z
LOCATION:
SUMMARY:Esposizione CAC per giovani e veterani
DESCRIPTION:Luogo: Sonterswil Bando e iscrizione (file pdf) www.dackel-ost.
 ch &nbsp;\nhttps://dackel.ch/it/events/esposizione-cac-per-giovani-e-vetera
 ni-2/
URL:https://dackel.ch/it/events/esposizione-cac-per-giovani-e-veterani-2/
END:VEVENT
END:VCALENDAR